BEGIN:VCALENDAR
VERSION:2.0
PRODID:-//Plone.org//NONSGML plone.app.event//EN
X-WR-TIMEZONE:Brazil/East
BEGIN:VEVENT
SUMMARY:12ª Sessão Ordinária 02/05/2023
DTSTART;TZID=Brazil/East;VALUE=DATE-TIME:20230502T180000
DTEND;TZID=Brazil/East;VALUE=DATE-TIME:20230502T192000
DTSTAMP;VALUE=DATE-TIME:20260419T201026Z
UID:27944d34532b4a1db99c76b5f524bfbf@www.campomagro.pr.leg.br
CONTACT:https://www.facebook.com/camaramcampomagro/videos/183516330843824
CREATED;VALUE=DATE-TIME:20230424T165827Z
LAST-MODIFIED;VALUE=DATE-TIME:20230504T174712Z
LOCATION:CÂMARA MUNICIPAL DE CAMPO MAGRO
URL:https://www.campomagro.pr.leg.br/institucional/eventos/sessao-ordinari
 a-02-05-23
END:VEVENT
BEGIN:VTIMEZONE
TZID:Brazil/East
X-LIC-LOCATION:Brazil/East
BEGIN:STANDARD
DTSTART;VALUE=DATE-TIME:20230225T230000
TZNAME:BRT
TZOFFSETFROM:-0200
TZOFFSETTO:-0300
END:STANDARD
END:VTIMEZONE
END:VCALENDAR
