BEGIN:VCALENDAR
VERSION:2.0
PRODID:-//Plone.org//NONSGML plone.app.event//EN
X-WR-TIMEZONE:Brazil/East
BEGIN:VEVENT
SUMMARY:Audiência Publica APP Sindicato 02/05/23
DTSTART;TZID=Brazil/East;VALUE=DATE-TIME:20230502T190000
DTEND;TZID=Brazil/East;VALUE=DATE-TIME:20230502T203000
DTSTAMP;VALUE=DATE-TIME:20260419T182533Z
UID:c497af0460a9422481eabc835b466b42@www.campomagro.pr.leg.br
CREATED;VALUE=DATE-TIME:20230502T175503Z
DESCRIPTION:Assunto: \nValorização dos professores conforme solicitado p
 elo ofício 033/2023 da APP Sindicato Metropolitana Norte. 
LAST-MODIFIED;VALUE=DATE-TIME:20230503T164309Z
LOCATION:CÂMARA MUNICIPAL DE CAMPO MAGRO
URL:https://www.campomagro.pr.leg.br/institucional/eventos/audiencia-publi
 ca-app-sindicato-02-05-23
END:VEVENT
BEGIN:VTIMEZONE
TZID:Brazil/East
X-LIC-LOCATION:Brazil/East
BEGIN:STANDARD
DTSTART;VALUE=DATE-TIME:20230225T230000
TZNAME:BRT
TZOFFSETFROM:-0200
TZOFFSETTO:-0300
END:STANDARD
END:VTIMEZONE
END:VCALENDAR
