BEGIN:VCALENDAR
VERSION:2.0
PRODID:-//Plone.org//NONSGML plone.app.event//EN
X-WR-TIMEZONE:Brazil/East
BEGIN:VEVENT
SUMMARY:6ª Sessão Ordinária 21/03/2023
DTSTART;TZID=Brazil/East;VALUE=DATE-TIME:20230321T190000
DTEND;TZID=Brazil/East;VALUE=DATE-TIME:20230321T203000
DTSTAMP;VALUE=DATE-TIME:20260420T004430Z
UID:c33951d6b2e448d0b858c51268d08f5d@www.campomagro.pr.leg.br
CONTACT:https://www.facebook.com/camaramcampomagro/videos/956908662413776
CREATED;VALUE=DATE-TIME:20230504T115414Z
LAST-MODIFIED;VALUE=DATE-TIME:20230504T115421Z
LOCATION:CÂMARA MUNICIPAL DE CAMPO MAGRO
URL:https://www.campomagro.pr.leg.br/institucional/eventos/6a-sessao-ordin
 aria-21-03-2023-1
END:VEVENT
BEGIN:VTIMEZONE
TZID:Brazil/East
X-LIC-LOCATION:Brazil/East
BEGIN:STANDARD
DTSTART;VALUE=DATE-TIME:20230225T230000
TZNAME:BRT
TZOFFSETFROM:-0200
TZOFFSETTO:-0300
END:STANDARD
END:VTIMEZONE
END:VCALENDAR
